BEGIN:VCALENDAR
VERSION:2.0
PRODID:-//Sheboygan A&#039;s Baseball - ECPv6.15.20//NONSGML v1.0//EN
CALSCALE:GREGORIAN
METHOD:PUBLISH
X-ORIGINAL-URL:https://sheboyganbaseball.org
X-WR-CALDESC:Events for Sheboygan A&#039;s Baseball
REFRESH-INTERVAL;VALUE=DURATION:PT1H
X-Robots-Tag:noindex
X-PUBLISHED-TTL:PT1H
BEGIN:VTIMEZONE
TZID:America/Chicago
BEGIN:DAYLIGHT
TZOFFSETFROM:-0600
TZOFFSETTO:-0500
TZNAME:CDT
DTSTART:20240310T080000
END:DAYLIGHT
BEGIN:STANDARD
TZOFFSETFROM:-0500
TZOFFSETTO:-0600
TZNAME:CST
DTSTART:20241103T070000
END:STANDARD
BEGIN:DAYLIGHT
TZOFFSETFROM:-0600
TZOFFSETTO:-0500
TZNAME:CDT
DTSTART:20250309T080000
END:DAYLIGHT
BEGIN:STANDARD
TZOFFSETFROM:-0500
TZOFFSETTO:-0600
TZNAME:CST
DTSTART:20251102T070000
END:STANDARD
BEGIN:DAYLIGHT
TZOFFSETFROM:-0600
TZOFFSETTO:-0500
TZNAME:CDT
DTSTART:20260308T080000
END:DAYLIGHT
BEGIN:STANDARD
TZOFFSETFROM:-0500
TZOFFSETTO:-0600
TZNAME:CST
DTSTART:20261101T070000
END:STANDARD
END:VTIMEZONE
BEGIN:VEVENT
DTSTART;TZID=America/Chicago:20250802T120000
DTEND;TZID=America/Chicago:20250802T143000
DTSTAMP:20260419T075049
CREATED:20250726T201354Z
LAST-MODIFIED:20250726T201354Z
UID:10001129-1754136000-1754145000@sheboyganbaseball.org
SUMMARY:@ West Allis Nationals
DESCRIPTION:
URL:https://sheboyganbaseball.org/event/west-allis-nationals/
LOCATION:E.J. Schneider Field\, Oshkosh\, 54901\, United States
CATEGORIES:Away Games
ATTACH;FMTTYPE=image/jpeg:https://sheboyganbaseball.org/wp-content/uploads/west-allis-nationals.jpg
END:VEVENT
BEGIN:VEVENT
DTSTART;TZID=America/Chicago:20250802T143000
DTEND;TZID=America/Chicago:20250802T170000
DTSTAMP:20260419T075049
CREATED:20250726T201437Z
LAST-MODIFIED:20250726T201437Z
UID:10001130-1754145000-1754154000@sheboyganbaseball.org
SUMMARY:@ Green Bay Blue Ribbons
DESCRIPTION:
URL:https://sheboyganbaseball.org/event/green-bay-blue-ribbons/
LOCATION:E.J. Schneider Field\, Oshkosh\, 54901\, United States
CATEGORIES:Away Games
ATTACH;FMTTYPE=image/jpeg:https://sheboyganbaseball.org/wp-content/uploads/green-bay-blue-ribbons.jpg
END:VEVENT
BEGIN:VEVENT
DTSTART;TZID=America/Chicago:20250803T110000
DTEND;TZID=America/Chicago:20250803T133000
DTSTAMP:20260419T075049
CREATED:20250726T201522Z
LAST-MODIFIED:20250726T201522Z
UID:10001131-1754218800-1754227800@sheboyganbaseball.org
SUMMARY:@ Kenosha Kings
DESCRIPTION:
URL:https://sheboyganbaseball.org/event/kenosha-kings/
LOCATION:E.J. Schneider Field\, Oshkosh\, 54901\, United States
CATEGORIES:Away Games
ATTACH;FMTTYPE=image/jpeg:https://sheboyganbaseball.org/wp-content/uploads/kenosha-kings.jpg
END:VEVENT
BEGIN:VEVENT
DTSTART;TZID=America/Chicago:20250803T160000
DTEND;TZID=America/Chicago:20250803T183000
DTSTAMP:20260419T075049
CREATED:20250726T201648Z
LAST-MODIFIED:20250726T201648Z
UID:10001132-1754236800-1754245800@sheboyganbaseball.org
SUMMARY:@ Wisconsin State League Tournament Championship
DESCRIPTION:
URL:https://sheboyganbaseball.org/event/wisconsin-state-league-tournament-championship/
LOCATION:E.J. Schneider Field\, Oshkosh\, 54901\, United States
CATEGORIES:Away Games
ATTACH;FMTTYPE=image/jpeg:https://sheboyganbaseball.org/wp-content/uploads/wisconsin-state-league-1.jpg
END:VEVENT
BEGIN:VEVENT
DTSTART;TZID=America/Chicago:20250805T193000
DTEND;TZID=America/Chicago:20250805T220000
DTSTAMP:20260419T075049
CREATED:20250726T202054Z
LAST-MODIFIED:20250726T202054Z
UID:10001133-1754422200-1754431200@sheboyganbaseball.org
SUMMARY:Game One: NEWBL Championship
DESCRIPTION:
URL:https://sheboyganbaseball.org/event/game-one-newbl-championship/
LOCATION:Wildwood Baseball Park\, 2276 New Jersey Ave\, Sheboygan\, WI 53081\, WI\, 53081\, United States
CATEGORIES:Home Games
ATTACH;FMTTYPE=image/jpeg:https://sheboyganbaseball.org/wp-content/uploads/northeastern-wiscosin-baseball-league.jpg
END:VEVENT
BEGIN:VEVENT
DTSTART;TZID=America/Chicago:20250806T193000
DTEND;TZID=America/Chicago:20250806T220000
DTSTAMP:20260419T075049
CREATED:20250726T202131Z
LAST-MODIFIED:20250729T135817Z
UID:10001134-1754508600-1754517600@sheboyganbaseball.org
SUMMARY:Game Two: NEWBL Championship (Away)
DESCRIPTION:
URL:https://sheboyganbaseball.org/event/game-two-newbl-championship-away/
LOCATION:TBD\, WI\, United States
CATEGORIES:Away Games
ATTACH;FMTTYPE=image/jpeg:https://sheboyganbaseball.org/wp-content/uploads/northeastern-wiscosin-baseball-league.jpg
END:VEVENT
BEGIN:VEVENT
DTSTART;TZID=America/Chicago:20250807T193000
DTEND;TZID=America/Chicago:20250807T220000
DTSTAMP:20260419T075049
CREATED:20250726T202204Z
LAST-MODIFIED:20250729T135822Z
UID:10001135-1754595000-1754604000@sheboyganbaseball.org
SUMMARY:Game Three: NEWBL Championship
DESCRIPTION:
URL:https://sheboyganbaseball.org/event/game-three-newbl-championship/
LOCATION:Wildwood Baseball Park\, 2276 New Jersey Ave\, Sheboygan\, WI 53081\, WI\, 53081\, United States
CATEGORIES:Home Games
ATTACH;FMTTYPE=image/jpeg:https://sheboyganbaseball.org/wp-content/uploads/northeastern-wiscosin-baseball-league.jpg
END:VEVENT
BEGIN:VEVENT
DTSTART;TZID=America/Chicago:20250817T100000
DTEND;TZID=America/Chicago:20250817T180000
DTSTAMP:20260419T075049
CREATED:20250814T161355Z
LAST-MODIFIED:20250814T161355Z
UID:10001136-1755424800-1755453600@sheboyganbaseball.org
SUMMARY:Sheboygan Athletic Club Golf Outing
DESCRIPTION:
URL:https://sheboyganathleticclub.org/golf-outing/#new_tab
LOCATION:Sheboygan Town and Country
CATEGORIES:Sheboygan Athletic Club Events
ATTACH;FMTTYPE=image/jpeg:https://sheboyganbaseball.org/wp-content/uploads/Stream-Ad.jpeg
END:VEVENT
BEGIN:VEVENT
DTSTART;TZID=America/Chicago:20250818T090000
DTEND;TZID=America/Chicago:20250818T160000
DTSTAMP:20260419T075049
CREATED:20250814T162330Z
LAST-MODIFIED:20250814T162330Z
UID:10001137-1755507600-1755532800@sheboyganbaseball.org
SUMMARY:Prep Baseball Report: Eastern Wisconsin Summer ID
DESCRIPTION:For most in the baseball world the summer schedule is as hectic as it gets. From scouts to coaches to players\, everyone is traveling the country looking for the best experiences possible and many are trying to navigate the landscape to put themselves in the best possible situation to #BeSeen. \nAt Prep Baseball our scouts are spending their time just as you are\, chasing the best baseball they can find all while making it easier for the player to put his best foot forward in the recruiting process. Our Summer Tour of open showcases takes the approach of making it easier for the player to find a local event\, open to all grad classes and skill levels\, and providing the opportunity to get in front of our scouts during the hectic schedule of summer baseball\, keeping their Prep Baseball Profile as current as possible. \nThe Summer Tour of open events also leads to identifying prospects for some of the summer’s biggest invite only events like Top Prospect\, Future Games\, State Games and more.\nOur Eastern Wisconsin Summer ID is slated for Monday\, August 18 at Wildwood Baseball Park in Sheboygan\, WI. Grad years 2026-2029 are invited to attend. \nAll highlights from the Eastern Wisconsin Summer ID will be promoted on PrepBaseballReport.com. Prep Baseball is subscribed to by over 1000 colleges and pro scouts across the country. All results will be posted on the site; along with players’ highlights. \nPrep Baseball’s goal is to help student-athletes achieve their dreams of playing baseball at the next level. If you want to take advantage of this opportunity\, please get your registration in as soon as possible. \nWHEN:\nMonday\, August 18\, 2025 \nWHERE:\nWildwood Baseball Park – Sheboygan\, WI \nWHO:\nClass of 2026-2029 \nTIME:\nCheck-in for ALL Players:\n9:00 AM
URL:https://sheboyganbaseball.org/event/prep-baseball-report-eastern-wisconsin-summer-id/
LOCATION:Wildwood Baseball Park\, 2276 New Jersey Ave\, Sheboygan\, WI 53081\, WI\, 53081\, United States
CATEGORIES:Sheboygan Athletic Club Events
ATTACH;FMTTYPE=image/jpeg:https://sheboyganbaseball.org/wp-content/uploads/524891767_1310761801057444_1800195035148300761_n.jpg
END:VEVENT
END:VCALENDAR