BEGIN:VCALENDAR
VERSION:2.0
PRODID:-//Sheboygan A&#039;s Baseball - ECPv6.15.20//NONSGML v1.0//EN
CALSCALE:GREGORIAN
METHOD:PUBLISH
X-ORIGINAL-URL:https://sheboyganbaseball.org
X-WR-CALDESC:Events for Sheboygan A&#039;s Baseball
REFRESH-INTERVAL;VALUE=DURATION:PT1H
X-Robots-Tag:noindex
X-PUBLISHED-TTL:PT1H
BEGIN:VTIMEZONE
TZID:America/Chicago
BEGIN:DAYLIGHT
TZOFFSETFROM:-0600
TZOFFSETTO:-0500
TZNAME:CDT
DTSTART:20250309T080000
END:DAYLIGHT
BEGIN:STANDARD
TZOFFSETFROM:-0500
TZOFFSETTO:-0600
TZNAME:CST
DTSTART:20251102T070000
END:STANDARD
BEGIN:DAYLIGHT
TZOFFSETFROM:-0600
TZOFFSETTO:-0500
TZNAME:CDT
DTSTART:20260308T080000
END:DAYLIGHT
BEGIN:STANDARD
TZOFFSETFROM:-0500
TZOFFSETTO:-0600
TZNAME:CST
DTSTART:20261101T070000
END:STANDARD
BEGIN:DAYLIGHT
TZOFFSETFROM:-0600
TZOFFSETTO:-0500
TZNAME:CDT
DTSTART:20270314T080000
END:DAYLIGHT
BEGIN:STANDARD
TZOFFSETFROM:-0500
TZOFFSETTO:-0600
TZNAME:CST
DTSTART:20271107T070000
END:STANDARD
END:VTIMEZONE
BEGIN:VEVENT
DTSTART;TZID=America/Chicago:20260610T193000
DTEND;TZID=America/Chicago:20260610T220000
DTSTAMP:20260423T052945
CREATED:20260407T133412Z
LAST-MODIFIED:20260407T133412Z
UID:10001171-1781119800-1781128800@sheboyganbaseball.org
SUMMARY:@ Kewaskum A's
DESCRIPTION:
URL:https://sheboyganbaseball.org/event/kewaskum-as-2/
LOCATION:Carl Kuss Memorial Field\, 800 N Main St.\, West Bend\, WI\, 53090\, United States
CATEGORIES:Away Games
ATTACH;FMTTYPE=image/jpeg:https://sheboyganbaseball.org/wp-content/uploads/kewaskum-as.jpg
END:VEVENT
BEGIN:VEVENT
DTSTART;TZID=America/Chicago:20260616T193000
DTEND;TZID=America/Chicago:20260616T220000
DTSTAMP:20260423T052945
CREATED:20260407T133412Z
LAST-MODIFIED:20260407T133412Z
UID:10001173-1781638200-1781647200@sheboyganbaseball.org
SUMMARY:@ Appleton Legends
DESCRIPTION:
URL:https://sheboyganbaseball.org/event/appleton-legends-2/
LOCATION:USA Sports Complex\, 3300 E Evergreen Dr.\, Appleton\, WI\, 54913\, United States
CATEGORIES:Away Games
ATTACH;FMTTYPE=image/jpeg:https://sheboyganbaseball.org/wp-content/uploads/appleton-legends.jpg
END:VEVENT
BEGIN:VEVENT
DTSTART;TZID=America/Chicago:20260617T193000
DTEND;TZID=America/Chicago:20260617T220000
DTSTAMP:20260423T052945
CREATED:20260407T133411Z
LAST-MODIFIED:20260407T133411Z
UID:10001175-1781724600-1781733600@sheboyganbaseball.org
SUMMARY:@ Green Bay Blue Ribbons
DESCRIPTION:
URL:https://sheboyganbaseball.org/event/green-bay-blue-ribbons-4/
LOCATION:Joannes Stadium\, 215 S Baird St\, Green Bay\, WI\, 54301\, United States
CATEGORIES:Away Games
ATTACH;FMTTYPE=image/jpeg:https://sheboyganbaseball.org/wp-content/uploads/green-bay-blue-ribbons.jpg
END:VEVENT
BEGIN:VEVENT
DTSTART;TZID=America/Chicago:20260621T130000
DTEND;TZID=America/Chicago:20260621T180000
DTSTAMP:20260423T052945
CREATED:20260407T133411Z
LAST-MODIFIED:20260407T133411Z
UID:10001182-1782046800-1782064800@sheboyganbaseball.org
SUMMARY:@ Kenosha Kings (DH)
DESCRIPTION:
URL:https://sheboyganbaseball.org/event/kenosha-kings-dh/
LOCATION:Beaumont Field\, 595 Milwaukee Ave.\, Burlington\, WI\, 53105\, United States
CATEGORIES:Away Games
ATTACH;FMTTYPE=image/jpeg:https://sheboyganbaseball.org/wp-content/uploads/kenosha-kings.jpg
END:VEVENT
BEGIN:VEVENT
DTSTART;TZID=America/Chicago:20260625T193000
DTEND;TZID=America/Chicago:20260625T220000
DTSTAMP:20260423T052945
CREATED:20260407T133411Z
LAST-MODIFIED:20260407T133411Z
UID:10001177-1782415800-1782424800@sheboyganbaseball.org
SUMMARY:@ Menasha Macs
DESCRIPTION:
URL:https://sheboyganbaseball.org/event/menasha-macs-2/
LOCATION:Koslo Park\, 1100 Geneva Rd.\, Menasha\, WI\, 54952\, United States
CATEGORIES:Away Games
ATTACH;FMTTYPE=image/jpeg:https://sheboyganbaseball.org/wp-content/uploads/menasha-macs.jpg
END:VEVENT
BEGIN:VEVENT
DTSTART;TZID=America/Chicago:20260626T193000
DTEND;TZID=America/Chicago:20260626T220000
DTSTAMP:20260423T052945
CREATED:20260407T133411Z
LAST-MODIFIED:20260407T151903Z
UID:10001185-1782502200-1782511200@sheboyganbaseball.org
SUMMARY:Wisconsin Amateur Baseball Classic
DESCRIPTION:
URL:https://sheboyganbaseball.org/event/wisconsin-amateur-baseball-classic-3/
LOCATION:TBD\, WI\, United States
CATEGORIES:Away Games
ATTACH;FMTTYPE=image/jpeg:https://sheboyganbaseball.org/wp-content/uploads/wisconsin-amateur-baseball-classic.jpg
END:VEVENT
BEGIN:VEVENT
DTSTART;TZID=America/Chicago:20260627T120000
DTEND;TZID=America/Chicago:20260627T210000
DTSTAMP:20260423T052945
CREATED:20260407T133411Z
LAST-MODIFIED:20260407T151934Z
UID:10001186-1782561600-1782594000@sheboyganbaseball.org
SUMMARY:Wisconsin Amateur Baseball Classic
DESCRIPTION:
URL:https://sheboyganbaseball.org/event/wisconsin-amateur-baseball-classic-2/
LOCATION:TBD\, WI\, United States
CATEGORIES:Away Games
ATTACH;FMTTYPE=image/jpeg:https://sheboyganbaseball.org/wp-content/uploads/wisconsin-amateur-baseball-classic.jpg
END:VEVENT
BEGIN:VEVENT
DTSTART;TZID=America/Chicago:20260628T120000
DTEND;TZID=America/Chicago:20260628T210000
DTSTAMP:20260423T052945
CREATED:20260407T133411Z
LAST-MODIFIED:20260407T151942Z
UID:10001187-1782648000-1782680400@sheboyganbaseball.org
SUMMARY:Wisconsin Amateur Baseball Classic
DESCRIPTION:
URL:https://sheboyganbaseball.org/event/wisconsin-amateur-baseball-classic/
LOCATION:TBD\, WI\, United States
CATEGORIES:Away Games
ATTACH;FMTTYPE=image/jpeg:https://sheboyganbaseball.org/wp-content/uploads/wisconsin-amateur-baseball-classic.jpg
END:VEVENT
END:VCALENDAR